BEGIN:VCALENDAR
VERSION:2.0
PRODID:-//Women&#039;s Entrepreneurial Fellowship - ECPv6.15.10//NONSGML v1.0//EN
CALSCALE:GREGORIAN
METHOD:PUBLISH
X-WR-CALNAME:Women&#039;s Entrepreneurial Fellowship
X-ORIGINAL-URL:https://sbamwef.org
X-WR-CALDESC:Events for Women&#039;s Entrepreneurial Fellowship
REFRESH-INTERVAL;VALUE=DURATION:PT1H
X-Robots-Tag:noindex
X-PUBLISHED-TTL:PT1H
BEGIN:VTIMEZONE
TZID:America/Detroit
BEGIN:DAYLIGHT
TZOFFSETFROM:-0500
TZOFFSETTO:-0400
TZNAME:EDT
DTSTART:20250309T070000
END:DAYLIGHT
BEGIN:STANDARD
TZOFFSETFROM:-0400
TZOFFSETTO:-0500
TZNAME:EST
DTSTART:20251102T060000
END:STANDARD
BEGIN:DAYLIGHT
TZOFFSETFROM:-0500
TZOFFSETTO:-0400
TZNAME:EDT
DTSTART:20260308T070000
END:DAYLIGHT
BEGIN:STANDARD
TZOFFSETFROM:-0400
TZOFFSETTO:-0500
TZNAME:EST
DTSTART:20261101T060000
END:STANDARD
BEGIN:DAYLIGHT
TZOFFSETFROM:-0500
TZOFFSETTO:-0400
TZNAME:EDT
DTSTART:20270314T070000
END:DAYLIGHT
BEGIN:STANDARD
TZOFFSETFROM:-0400
TZOFFSETTO:-0500
TZNAME:EST
DTSTART:20271107T060000
END:STANDARD
END:VTIMEZONE
BEGIN:VEVENT
DTSTART;TZID=America/Detroit:20260114T120000
DTEND;TZID=America/Detroit:20260114T163000
DTSTAMP:20260424T081738
CREATED:20251205T185240Z
LAST-MODIFIED:20260117T223145Z
UID:10000022-1768392000-1768408200@sbamwef.org
SUMMARY:Cohort Session: Operations for Growth
DESCRIPTION:Location\nSBAM Office\n101 S Washington Square #900\nLansing\, MI 48933 \nInstructor\nJennifer Jurgens\nCEO/Founder\, 1 Bold Step \nWhat to Expect\nThis event is exclusively for members of the 2025-2026 Cohort. \nAs businesses grow\, maintaining operational efficiency becomes increasingly complex\, especially when you’re uncertain which activities will impact your bottom line the most. This course focuses on identifying the true constraints to growth\, streamlining processes\, and integrating technology to support your expanding operations.
URL:https://sbamwef.org/event/operations-for-growth/
LOCATION:SBAM Offices\, 101 S. Washington Square Suite 900\, Lansing\, MI\, 48933\, United States
CATEGORIES:Cohort Meeting
ATTACH;FMTTYPE=image/png:https://sbamwef.org/wp-content/uploads/2025/12/Operations-for-Growth.png
END:VEVENT
BEGIN:VEVENT
DTSTART;TZID=America/Detroit:20260114T163000
DTEND;TZID=America/Detroit:20260114T180000
DTSTAMP:20260424T081738
CREATED:20260115T210954Z
LAST-MODIFIED:20260115T210954Z
UID:10000031-1768408200-1768413600@sbamwef.org
SUMMARY:Public Happy Hour and Networking
DESCRIPTION:Location\nSBAM Office\n101 S Washington Square #900\nLansing\, MI 48933 \nWhat to Expect\nJoin the Fellowship from 4:30 – 6:00 p.m. for happy hour and networking. This part of the program is open to anyone who would like to attend. \nRSVP\nEmail Maddie at maddie@sbamwef.org to RSVP.
URL:https://sbamwef.org/event/public-happy-hour-and-networking-2/
CATEGORIES:Networking
ATTACH;FMTTYPE=image/png:https://sbamwef.org/wp-content/uploads/2026/01/WEF-Public-Happy-Hour-1.png
END:VEVENT
END:VCALENDAR