BEGIN:VCALENDAR
VERSION:2.0
PRODID:-//Women&#039;s Entrepreneurial Fellowship - ECPv6.15.10//NONSGML v1.0//EN
CALSCALE:GREGORIAN
METHOD:PUBLISH
X-WR-CALNAME:Women&#039;s Entrepreneurial Fellowship
X-ORIGINAL-URL:https://sbamwef.org
X-WR-CALDESC:Events for Women&#039;s Entrepreneurial Fellowship
REFRESH-INTERVAL;VALUE=DURATION:PT1H
X-Robots-Tag:noindex
X-PUBLISHED-TTL:PT1H
BEGIN:VTIMEZONE
TZID:America/Detroit
BEGIN:DAYLIGHT
TZOFFSETFROM:-0500
TZOFFSETTO:-0400
TZNAME:EDT
DTSTART:20250309T070000
END:DAYLIGHT
BEGIN:STANDARD
TZOFFSETFROM:-0400
TZOFFSETTO:-0500
TZNAME:EST
DTSTART:20251102T060000
END:STANDARD
BEGIN:DAYLIGHT
TZOFFSETFROM:-0500
TZOFFSETTO:-0400
TZNAME:EDT
DTSTART:20260308T070000
END:DAYLIGHT
BEGIN:STANDARD
TZOFFSETFROM:-0400
TZOFFSETTO:-0500
TZNAME:EST
DTSTART:20261101T060000
END:STANDARD
BEGIN:DAYLIGHT
TZOFFSETFROM:-0500
TZOFFSETTO:-0400
TZNAME:EDT
DTSTART:20270314T070000
END:DAYLIGHT
BEGIN:STANDARD
TZOFFSETFROM:-0400
TZOFFSETTO:-0500
TZNAME:EST
DTSTART:20271107T060000
END:STANDARD
END:VTIMEZONE
BEGIN:VEVENT
DTSTART;TZID=America/Detroit:20260520T120000
DTEND;TZID=America/Detroit:20260520T163000
DTSTAMP:20260420T165103
CREATED:20251205T190628Z
LAST-MODIFIED:20260115T210107Z
UID:10000025-1779278400-1779294600@sbamwef.org
SUMMARY:Cohort Session: Build with Purpose
DESCRIPTION:Location\nSBAM Office\n101 S Washington Square #900\nLansing\, MI 48933 \nInstructor\nErick Stewart\nCEO\, LAGNIAPPE Strategic Consulting \nWhat to Expect\nThis event is exclusively for members of the 2025-2026 Cohort. \nOur time will explore the entrepreneurial journey beginning with the Catalytic moment that called you to be an entrepreneur\, or your “why”. This sets up our immersion into our core values\, where they come from\, and how as a leader they roll up into building your business culture\, personal boundaries\, active decision making and strategic direction for your business and “you” the entrepreneur. We will also immerse participants into the connections between navigating core values with external forces – economic\, policy\, personal\, and strategic. Resources prep will set the stage for our journey.
URL:https://sbamwef.org/event/build-with-purpose/
LOCATION:SBAM Offices\, 101 S. Washington Square Suite 900\, Lansing\, MI\, 48933\, United States
CATEGORIES:Cohort Meeting
ATTACH;FMTTYPE=image/png:https://sbamwef.org/wp-content/uploads/2025/12/Building-with-Purpose.png
END:VEVENT
BEGIN:VEVENT
DTSTART;TZID=America/Detroit:20260520T163000
DTEND;TZID=America/Detroit:20260520T180000
DTSTAMP:20260420T165103
CREATED:20260115T205341Z
LAST-MODIFIED:20260115T205419Z
UID:10000029-1779294600-1779300000@sbamwef.org
SUMMARY:Public Happy Hour and Networking
DESCRIPTION:Location\nSBAM Office\n101 S Washington Square #900\nLansing\, MI 48933 \nWhat to Expect\nJoin the Fellowship from 4:30 – 6:00 p.m. for happy hour and networking. This part of the program is open to anyone who would like to attend. \nRSVP\nEmail Maddie at maddie@sbamwef.org to RSVP.
URL:https://sbamwef.org/event/public-happy-hour-and-networking/
CATEGORIES:Networking
ATTACH;FMTTYPE=image/png:https://sbamwef.org/wp-content/uploads/2026/01/SBAM-WEF_Public-Happy-Hour.png
END:VEVENT
END:VCALENDAR